BEGIN:VCALENDAR
VERSION:2.0
PRODID:-//Herrington Harbour Marinas - ECPv6.15.16.1//NONSGML v1.0//EN
CALSCALE:GREGORIAN
METHOD:PUBLISH
X-WR-CALNAME:Herrington Harbour Marinas
X-ORIGINAL-URL:https://www.herringtonharbour.com
X-WR-CALDESC:Events for Herrington Harbour Marinas
REFRESH-INTERVAL;VALUE=DURATION:PT1H
X-Robots-Tag:noindex
X-PUBLISHED-TTL:PT1H
BEGIN:VTIMEZONE
TZID:America/New_York
BEGIN:DAYLIGHT
TZOFFSETFROM:-0500
TZOFFSETTO:-0400
TZNAME:EDT
DTSTART:20240310T070000
END:DAYLIGHT
BEGIN:STANDARD
TZOFFSETFROM:-0400
TZOFFSETTO:-0500
TZNAME:EST
DTSTART:20241103T060000
END:STANDARD
BEGIN:DAYLIGHT
TZOFFSETFROM:-0500
TZOFFSETTO:-0400
TZNAME:EDT
DTSTART:20250309T070000
END:DAYLIGHT
BEGIN:STANDARD
TZOFFSETFROM:-0400
TZOFFSETTO:-0500
TZNAME:EST
DTSTART:20251102T060000
END:STANDARD
BEGIN:DAYLIGHT
TZOFFSETFROM:-0500
TZOFFSETTO:-0400
TZNAME:EDT
DTSTART:20260308T070000
END:DAYLIGHT
BEGIN:STANDARD
TZOFFSETFROM:-0400
TZOFFSETTO:-0500
TZNAME:EST
DTSTART:20261101T060000
END:STANDARD
END:VTIMEZONE
BEGIN:VEVENT
DTSTART;TZID=America/New_York:20250831T080000
DTEND;TZID=America/New_York:20250831T090000
DTSTAMP:20260421T044137
CREATED:20230510T151617Z
LAST-MODIFIED:20250522T010319Z
UID:55989-1756627200-1756630800@www.herringtonharbour.com
SUMMARY:Yoga
DESCRIPTION:Enjoy a morning Hatha Yoga practice with gentle flows to meet everyone’s needs. Practice at your own pace while taking in the sounds of the birds singing and the feel of the breeze. Bring your yoga mat and water bottle and indulge in bliss before you take on your day. Class will be on the overlook at the Marina Office. \n\nNo pre-registration is required to participate in our complimentary slipholder fitness programs. Please remember to arrive early to get signed in and complete the participation paperwork required by the instructors.
URL:https://www.herringtonharbour.com/marina-event/yoga/2025-08-31/
CATEGORIES:North Events
ATTACH;FMTTYPE=image/jpeg:https://www.herringtonharbour.com/wp-content/uploads/2021/11/herrington-yoga-0806.jpg
END:VEVENT
BEGIN:VEVENT
DTSTART;TZID=America/New_York:20250831T150000
DTEND;TZID=America/New_York:20250831T170000
DTSTAMP:20260421T044137
CREATED:20230515T150715Z
LAST-MODIFIED:20250808T162842Z
UID:61876-1756652400-1756659600@www.herringtonharbour.com
SUMMARY:Trivia at the Pool
DESCRIPTION:Join MC Todd Hall for an afternoon of fun trivia and laughter as you battle it out with other teams while competing for cash prizes. First and second place teams will take home cash prizes while the third-place team will choose the category for the next trivia date. Does your team have what it takes to be Trivia Champions?
URL:https://www.herringtonharbour.com/marina-event/trivia-at-the-pool-bar/2025-08-31/
CATEGORIES:North Events
ATTACH;FMTTYPE=image/jpeg:https://www.herringtonharbour.com/wp-content/uploads/2023/05/trivia-at-pool.jpg
END:VEVENT
BEGIN:VEVENT
DTSTART;TZID=America/New_York:20250831T180000
DTEND;TZID=America/New_York:20250831T200000
DTSTAMP:20260421T044137
CREATED:20250523T021300Z
LAST-MODIFIED:20250523T021300Z
UID:60120-1756663200-1756670400@www.herringtonharbour.com
SUMMARY:Family Feud Game Show Night
DESCRIPTION:More details to come
URL:https://www.herringtonharbour.com/marina-event/family-feud-game-show-night/
CATEGORIES:North Events
ATTACH;FMTTYPE=image/jpeg:https://www.herringtonharbour.com/wp-content/uploads/2025/05/unnamed-79.jpg
END:VEVENT
END:VCALENDAR