BEGIN:VCALENDAR
VERSION:2.0
PRODID:-//Herrington Harbour Marinas - ECPv6.15.16.1//NONSGML v1.0//EN
CALSCALE:GREGORIAN
METHOD:PUBLISH
X-ORIGINAL-URL:https://www.herringtonharbour.com
X-WR-CALDESC:Events for Herrington Harbour Marinas
REFRESH-INTERVAL;VALUE=DURATION:PT1H
X-Robots-Tag:noindex
X-PUBLISHED-TTL:PT1H
BEGIN:VTIMEZONE
TZID:America/New_York
BEGIN:DAYLIGHT
TZOFFSETFROM:-0500
TZOFFSETTO:-0400
TZNAME:EDT
DTSTART:20240310T070000
END:DAYLIGHT
BEGIN:STANDARD
TZOFFSETFROM:-0400
TZOFFSETTO:-0500
TZNAME:EST
DTSTART:20241103T060000
END:STANDARD
BEGIN:DAYLIGHT
TZOFFSETFROM:-0500
TZOFFSETTO:-0400
TZNAME:EDT
DTSTART:20250309T070000
END:DAYLIGHT
BEGIN:STANDARD
TZOFFSETFROM:-0400
TZOFFSETTO:-0500
TZNAME:EST
DTSTART:20251102T060000
END:STANDARD
BEGIN:DAYLIGHT
TZOFFSETFROM:-0500
TZOFFSETTO:-0400
TZNAME:EDT
DTSTART:20260308T070000
END:DAYLIGHT
BEGIN:STANDARD
TZOFFSETFROM:-0400
TZOFFSETTO:-0500
TZNAME:EST
DTSTART:20261101T060000
END:STANDARD
END:VTIMEZONE
BEGIN:VEVENT
DTSTART;TZID=America/New_York:20250823T100000
DTEND;TZID=America/New_York:20250823T110000
DTSTAMP:20260421T044654
CREATED:20220504T151836Z
LAST-MODIFIED:20250522T014623Z
UID:56046-1755943200-1755946800@www.herringtonharbour.com
SUMMARY:Aqua Fitness
DESCRIPTION:Your Instructor will lead you through a series of exercises in the pool to improve flexibility\, muscular strength\, and endurance. Some of the benefits of Aqua Fitness include increased aerobic capacity\, improved balance and coordination\, and core stability. Bring your water bottle and towel for a FUN\, safe\, and effective one hour class at the pool.\n\nNo pre-registration is required to participate in our complimentary slipholder fitness programs. Please remember to arrive early to get signed in and complete the participation paperwork required by the instructors.
URL:https://www.herringtonharbour.com/marina-event/aqua-fitness-2/2025-08-23/
CATEGORIES:North Events
ATTACH;FMTTYPE=image/jpeg:https://www.herringtonharbour.com/wp-content/uploads/2022/05/aquatic-fitness-4974-scaled.jpg
END:VEVENT
BEGIN:VEVENT
DTSTART;TZID=America/New_York:20250823T180000
DTEND;TZID=America/New_York:20250823T180000
DTSTAMP:20260421T044654
CREATED:20250523T020859Z
LAST-MODIFIED:20250523T020859Z
UID:60115-1755972000-1755972000@www.herringtonharbour.com
SUMMARY:Chef Ewa's Polish Delights
DESCRIPTION:Chef Ewa returns to Herrington Harbour North! Stop by the Clubhouse Dock Lawn at 6 pm to enjoy homemade perogies and other traditional Polish dishes available for purchase. Chef Ewa is a graduate of the Culinary Art Institute of Washington D.C. She prepares each dish with the same passion and pride as the meals her mother taught her to make when she was young. Prepared dishes are available while supplies last. Cash and credit cards are accepted.
URL:https://www.herringtonharbour.com/marina-event/chef-ewas-polish-delights-3/
CATEGORIES:North Events
ATTACH;FMTTYPE=image/jpeg:https://www.herringtonharbour.com/wp-content/uploads/2024/05/unnamed-77.jpg
END:VEVENT
END:VCALENDAR