BEGIN:VCALENDAR
VERSION:2.0
PRODID:-//Herrington Harbour Marinas - ECPv6.15.16.1//NONSGML v1.0//EN
CALSCALE:GREGORIAN
METHOD:PUBLISH
X-ORIGINAL-URL:https://www.herringtonharbour.com
X-WR-CALDESC:Events for Herrington Harbour Marinas
REFRESH-INTERVAL;VALUE=DURATION:PT1H
X-Robots-Tag:noindex
X-PUBLISHED-TTL:PT1H
BEGIN:VTIMEZONE
TZID:America/New_York
BEGIN:DAYLIGHT
TZOFFSETFROM:-0500
TZOFFSETTO:-0400
TZNAME:EDT
DTSTART:20240310T070000
END:DAYLIGHT
BEGIN:STANDARD
TZOFFSETFROM:-0400
TZOFFSETTO:-0500
TZNAME:EST
DTSTART:20241103T060000
END:STANDARD
BEGIN:DAYLIGHT
TZOFFSETFROM:-0500
TZOFFSETTO:-0400
TZNAME:EDT
DTSTART:20250309T070000
END:DAYLIGHT
BEGIN:STANDARD
TZOFFSETFROM:-0400
TZOFFSETTO:-0500
TZNAME:EST
DTSTART:20251102T060000
END:STANDARD
BEGIN:DAYLIGHT
TZOFFSETFROM:-0500
TZOFFSETTO:-0400
TZNAME:EDT
DTSTART:20260308T070000
END:DAYLIGHT
BEGIN:STANDARD
TZOFFSETFROM:-0400
TZOFFSETTO:-0500
TZNAME:EST
DTSTART:20261101T060000
END:STANDARD
END:VTIMEZONE
BEGIN:VEVENT
DTSTART;TZID=America/New_York:20250601T080000
DTEND;TZID=America/New_York:20250601T090000
DTSTAMP:20260420T231113
CREATED:20230510T151617Z
LAST-MODIFIED:20250522T011039Z
UID:55976-1748764800-1748768400@www.herringtonharbour.com
SUMMARY:Yoga
DESCRIPTION:Enjoy a morning Hatha Yoga practice with gentle flows to meet everyone’s needs. Practice at your own pace while taking in the sounds of the birds singing and the feel of the breeze. Bring your yoga mat and water bottle and indulge in bliss before you take on your day. Class will be on the overlook at the Marina Office. \n\nNo pre-registration is required to participate in our complimentary slipholder fitness programs. Please remember to arrive early to get signed in and complete the participation paperwork required by the instructors.
URL:https://www.herringtonharbour.com/marina-event/yoga/2025-06-01/
CATEGORIES:North Events
ATTACH;FMTTYPE=image/jpeg:https://www.herringtonharbour.com/wp-content/uploads/2021/11/herrington-yoga-0806.jpg
END:VEVENT
BEGIN:VEVENT
DTSTART;TZID=America/New_York:20250601T083000
DTEND;TZID=America/New_York:20250601T083000
DTSTAMP:20260420T231113
CREATED:20210602T181515Z
LAST-MODIFIED:20250522T012939Z
UID:33293-1748766600-1748766600@www.herringtonharbour.com
SUMMARY:Breakfast at the Pool
DESCRIPTION:Herrington Harbour North would like to extend a warm invitation for you to join us for a complimentary breakfast at the pool. Start your day off right with a delicious spread of breakfast selections while enjoying a beautiful view of Tracey’s Creek. This is a great opportunity to meet and socialize with other guests\, or simply relax and soak up the morning sun. We hope to see you there! Registration is required to attend. Please register using the link provided in your weekly newsletter.
URL:https://www.herringtonharbour.com/marina-event/slipholder-breakfast-at-north/2025-06-01/
CATEGORIES:North Events
ATTACH;FMTTYPE=image/jpeg:https://www.herringtonharbour.com/wp-content/uploads/2021/06/178-IMG_5526-1.jpg
ORGANIZER;CN="Herrington Harbour North":MAILTO:hhn@herringtonharbour.com
END:VEVENT
BEGIN:VEVENT
DTSTART;TZID=America/New_York:20250607T100000
DTEND;TZID=America/New_York:20250607T110000
DTSTAMP:20260420T231113
CREATED:20220504T151836Z
LAST-MODIFIED:20250522T011351Z
UID:56035-1749290400-1749294000@www.herringtonharbour.com
SUMMARY:Aqua Fitness
DESCRIPTION:Your Instructor will lead you through a series of exercises in the pool to improve flexibility\, muscular strength\, and endurance. Some of the benefits of Aqua Fitness include increased aerobic capacity\, improved balance and coordination\, and core stability. Bring your water bottle and towel for a FUN\, safe\, and effective one hour class at the pool.\n\nNo pre-registration is required to participate in our complimentary slipholder fitness programs. Please remember to arrive early to get signed in and complete the participation paperwork required by the instructors.
URL:https://www.herringtonharbour.com/marina-event/aqua-fitness-2/2025-06-07/
CATEGORIES:North Events
ATTACH;FMTTYPE=image/jpeg:https://www.herringtonharbour.com/wp-content/uploads/2022/05/aquatic-fitness-4974-scaled.jpg
END:VEVENT
BEGIN:VEVENT
DTSTART;TZID=America/New_York:20250607T190000
DTEND;TZID=America/New_York:20250607T210000
DTSTAMP:20260420T231113
CREATED:20250522T013157Z
LAST-MODIFIED:20250527T191045Z
UID:60083-1749322800-1749330000@www.herringtonharbour.com
SUMMARY:Bingo
DESCRIPTION:We invite you to gather your friends and family for an evening of fun and friendly competition in The Landing. Our Bingo event is open to all ages and skill levels. Don’t miss out on the chance to win big and enjoy some quality time with loved ones. Complimentary beverages and snacks will be available. We look forward to seeing you there! Registration is required to attend\, register in the weekly newsletter.
URL:https://www.herringtonharbour.com/marina-event/bingo/
CATEGORIES:North Events
ATTACH;FMTTYPE=image/jpeg:https://www.herringtonharbour.com/wp-content/uploads/2025/05/unnamed-79.jpg
END:VEVENT
BEGIN:VEVENT
DTSTART;TZID=America/New_York:20250608T080000
DTEND;TZID=America/New_York:20250608T090000
DTSTAMP:20260420T231113
CREATED:20230510T151617Z
LAST-MODIFIED:20250522T011009Z
UID:55977-1749369600-1749373200@www.herringtonharbour.com
SUMMARY:Yoga
DESCRIPTION:Enjoy a morning Hatha Yoga practice with gentle flows to meet everyone’s needs. Practice at your own pace while taking in the sounds of the birds singing and the feel of the breeze. Bring your yoga mat and water bottle and indulge in bliss before you take on your day. Class will be on the overlook at the Marina Office. \n\nNo pre-registration is required to participate in our complimentary slipholder fitness programs. Please remember to arrive early to get signed in and complete the participation paperwork required by the instructors.
URL:https://www.herringtonharbour.com/marina-event/yoga/2025-06-08/
CATEGORIES:North Events
ATTACH;FMTTYPE=image/jpeg:https://www.herringtonharbour.com/wp-content/uploads/2021/11/herrington-yoga-0806.jpg
END:VEVENT
BEGIN:VEVENT
DTSTART;TZID=America/New_York:20250614T100000
DTEND;TZID=America/New_York:20250614T110000
DTSTAMP:20260420T231113
CREATED:20220504T151836Z
LAST-MODIFIED:20250522T013956Z
UID:56036-1749895200-1749898800@www.herringtonharbour.com
SUMMARY:Aqua Fitness
DESCRIPTION:Your Instructor will lead you through a series of exercises in the pool to improve flexibility\, muscular strength\, and endurance. Some of the benefits of Aqua Fitness include increased aerobic capacity\, improved balance and coordination\, and core stability. Bring your water bottle and towel for a FUN\, safe\, and effective one hour class at the pool.\n\nNo pre-registration is required to participate in our complimentary slipholder fitness programs. Please remember to arrive early to get signed in and complete the participation paperwork required by the instructors.
URL:https://www.herringtonharbour.com/marina-event/aqua-fitness-2/2025-06-14/
CATEGORIES:North Events
ATTACH;FMTTYPE=image/jpeg:https://www.herringtonharbour.com/wp-content/uploads/2022/05/aquatic-fitness-4974-scaled.jpg
END:VEVENT
BEGIN:VEVENT
DTSTART;TZID=America/New_York:20250614T180000
DTEND;TZID=America/New_York:20250614T200000
DTSTAMP:20260420T231113
CREATED:20250522T013448Z
LAST-MODIFIED:20250522T013448Z
UID:60085-1749924000-1749931200@www.herringtonharbour.com
SUMMARY:Kids Party
DESCRIPTION:Enjoy a kids party with a fun menu of Ledos pizza\, chicken strips\, pasta\, and ice cream! The event will take place indoors in The Landing. Registration is recommended\, but not required to attend. Register in the weekly newsletter.
URL:https://www.herringtonharbour.com/marina-event/kids-party/
CATEGORIES:North Events
ATTACH;FMTTYPE=image/png:https://www.herringtonharbour.com/wp-content/uploads/2025/05/unnamed-38.png
END:VEVENT
BEGIN:VEVENT
DTSTART;TZID=America/New_York:20250615T080000
DTEND;TZID=America/New_York:20250615T090000
DTSTAMP:20260420T231113
CREATED:20230510T151617Z
LAST-MODIFIED:20250522T010940Z
UID:55978-1749974400-1749978000@www.herringtonharbour.com
SUMMARY:Yoga
DESCRIPTION:Enjoy a morning Hatha Yoga practice with gentle flows to meet everyone’s needs. Practice at your own pace while taking in the sounds of the birds singing and the feel of the breeze. Bring your yoga mat and water bottle and indulge in bliss before you take on your day. Class will be on the overlook at the Marina Office. \n\nNo pre-registration is required to participate in our complimentary slipholder fitness programs. Please remember to arrive early to get signed in and complete the participation paperwork required by the instructors.
URL:https://www.herringtonharbour.com/marina-event/yoga/2025-06-15/
CATEGORIES:North Events
ATTACH;FMTTYPE=image/jpeg:https://www.herringtonharbour.com/wp-content/uploads/2021/11/herrington-yoga-0806.jpg
END:VEVENT
BEGIN:VEVENT
DTSTART;TZID=America/New_York:20250621T100000
DTEND;TZID=America/New_York:20250621T110000
DTSTAMP:20260420T231113
CREATED:20220504T151836Z
LAST-MODIFIED:20250522T014034Z
UID:56037-1750500000-1750503600@www.herringtonharbour.com
SUMMARY:Aqua Fitness
DESCRIPTION:Your Instructor will lead you through a series of exercises in the pool to improve flexibility\, muscular strength\, and endurance. Some of the benefits of Aqua Fitness include increased aerobic capacity\, improved balance and coordination\, and core stability. Bring your water bottle and towel for a FUN\, safe\, and effective one hour class at the pool.\n\nNo pre-registration is required to participate in our complimentary slipholder fitness programs. Please remember to arrive early to get signed in and complete the participation paperwork required by the instructors.
URL:https://www.herringtonharbour.com/marina-event/aqua-fitness-2/2025-06-21/
CATEGORIES:North Events
ATTACH;FMTTYPE=image/jpeg:https://www.herringtonharbour.com/wp-content/uploads/2022/05/aquatic-fitness-4974-scaled.jpg
END:VEVENT
BEGIN:VEVENT
DTSTART;TZID=America/New_York:20250622T080000
DTEND;TZID=America/New_York:20250622T090000
DTSTAMP:20260420T231113
CREATED:20230510T151617Z
LAST-MODIFIED:20250522T010913Z
UID:55979-1750579200-1750582800@www.herringtonharbour.com
SUMMARY:Yoga
DESCRIPTION:Enjoy a morning Hatha Yoga practice with gentle flows to meet everyone’s needs. Practice at your own pace while taking in the sounds of the birds singing and the feel of the breeze. Bring your yoga mat and water bottle and indulge in bliss before you take on your day. Class will be on the overlook at the Marina Office. \n\nNo pre-registration is required to participate in our complimentary slipholder fitness programs. Please remember to arrive early to get signed in and complete the participation paperwork required by the instructors.
URL:https://www.herringtonharbour.com/marina-event/yoga/2025-06-22/
CATEGORIES:North Events
ATTACH;FMTTYPE=image/jpeg:https://www.herringtonharbour.com/wp-content/uploads/2021/11/herrington-yoga-0806.jpg
END:VEVENT
BEGIN:VEVENT
DTSTART;TZID=America/New_York:20250628T100000
DTEND;TZID=America/New_York:20250628T110000
DTSTAMP:20260420T231113
CREATED:20220504T151836Z
LAST-MODIFIED:20250522T014103Z
UID:56038-1751104800-1751108400@www.herringtonharbour.com
SUMMARY:Aqua Fitness
DESCRIPTION:Your Instructor will lead you through a series of exercises in the pool to improve flexibility\, muscular strength\, and endurance. Some of the benefits of Aqua Fitness include increased aerobic capacity\, improved balance and coordination\, and core stability. Bring your water bottle and towel for a FUN\, safe\, and effective one hour class at the pool.\n\nNo pre-registration is required to participate in our complimentary slipholder fitness programs. Please remember to arrive early to get signed in and complete the participation paperwork required by the instructors.
URL:https://www.herringtonharbour.com/marina-event/aqua-fitness-2/2025-06-28/
CATEGORIES:North Events
ATTACH;FMTTYPE=image/jpeg:https://www.herringtonharbour.com/wp-content/uploads/2022/05/aquatic-fitness-4974-scaled.jpg
END:VEVENT
BEGIN:VEVENT
DTSTART;TZID=America/New_York:20250629T080000
DTEND;TZID=America/New_York:20250629T090000
DTSTAMP:20260420T231113
CREATED:20230510T151617Z
LAST-MODIFIED:20250522T010842Z
UID:55980-1751184000-1751187600@www.herringtonharbour.com
SUMMARY:Yoga
DESCRIPTION:Enjoy a morning Hatha Yoga practice with gentle flows to meet everyone’s needs. Practice at your own pace while taking in the sounds of the birds singing and the feel of the breeze. Bring your yoga mat and water bottle and indulge in bliss before you take on your day. Class will be on the overlook at the Marina Office. \n\nNo pre-registration is required to participate in our complimentary slipholder fitness programs. Please remember to arrive early to get signed in and complete the participation paperwork required by the instructors.
URL:https://www.herringtonharbour.com/marina-event/yoga/2025-06-29/
CATEGORIES:North Events
ATTACH;FMTTYPE=image/jpeg:https://www.herringtonharbour.com/wp-content/uploads/2021/11/herrington-yoga-0806.jpg
END:VEVENT
END:VCALENDAR