BEGIN:VCALENDAR
VERSION:2.0
PRODID:-//Herrington Harbour Marinas - ECPv6.15.16.1//NONSGML v1.0//EN
CALSCALE:GREGORIAN
METHOD:PUBLISH
X-ORIGINAL-URL:https://www.herringtonharbour.com
X-WR-CALDESC:Events for Herrington Harbour Marinas
REFRESH-INTERVAL;VALUE=DURATION:PT1H
X-Robots-Tag:noindex
X-PUBLISHED-TTL:PT1H
BEGIN:VTIMEZONE
TZID:America/New_York
BEGIN:DAYLIGHT
TZOFFSETFROM:-0500
TZOFFSETTO:-0400
TZNAME:EDT
DTSTART:20240310T070000
END:DAYLIGHT
BEGIN:STANDARD
TZOFFSETFROM:-0400
TZOFFSETTO:-0500
TZNAME:EST
DTSTART:20241103T060000
END:STANDARD
BEGIN:DAYLIGHT
TZOFFSETFROM:-0500
TZOFFSETTO:-0400
TZNAME:EDT
DTSTART:20250309T070000
END:DAYLIGHT
BEGIN:STANDARD
TZOFFSETFROM:-0400
TZOFFSETTO:-0500
TZNAME:EST
DTSTART:20251102T060000
END:STANDARD
BEGIN:DAYLIGHT
TZOFFSETFROM:-0500
TZOFFSETTO:-0400
TZNAME:EDT
DTSTART:20260308T070000
END:DAYLIGHT
BEGIN:STANDARD
TZOFFSETFROM:-0400
TZOFFSETTO:-0500
TZNAME:EST
DTSTART:20261101T060000
END:STANDARD
END:VTIMEZONE
BEGIN:VEVENT
DTSTART;TZID=America/New_York:20250524T100000
DTEND;TZID=America/New_York:20250524T110000
DTSTAMP:20260420T211858
CREATED:20220504T151836Z
LAST-MODIFIED:20250522T010053Z
UID:56047-1748080800-1748084400@www.herringtonharbour.com
SUMMARY:Aqua Fitness
DESCRIPTION:Your Instructor will lead you through a series of exercises in the pool to improve flexibility\, muscular strength\, and endurance. Some of the benefits of Aqua Fitness include increased aerobic capacity\, improved balance and coordination\, and core stability. Bring your water bottle and towel for a FUN\, safe\, and effective one hour class at the pool.\n\nNo pre-registration is required to participate in our complimentary slipholder fitness programs. Please remember to arrive early to get signed in and complete the participation paperwork required by the instructors.
URL:https://www.herringtonharbour.com/marina-event/aqua-fitness-2/2025-05-24/
CATEGORIES:North Events
ATTACH;FMTTYPE=image/jpeg:https://www.herringtonharbour.com/wp-content/uploads/2022/05/aquatic-fitness-4974-scaled.jpg
END:VEVENT
BEGIN:VEVENT
DTSTART;TZID=America/New_York:20250525T080000
DTEND;TZID=America/New_York:20250525T090000
DTSTAMP:20260420T211858
CREATED:20230510T151617Z
LAST-MODIFIED:20250522T010224Z
UID:40466-1748160000-1748163600@www.herringtonharbour.com
SUMMARY:Yoga
DESCRIPTION:Enjoy a morning Hatha Yoga practice with gentle flows to meet everyone’s needs. Practice at your own pace while taking in the sounds of the birds singing and the feel of the breeze. Bring your yoga mat and water bottle and indulge in bliss before you take on your day. Class will be on the overlook at the Marina Office. \n\nNo pre-registration is required to participate in our complimentary slipholder fitness programs. Please remember to arrive early to get signed in and complete the participation paperwork required by the instructors.
URL:https://www.herringtonharbour.com/marina-event/yoga/2025-05-25/
CATEGORIES:North Events
ATTACH;FMTTYPE=image/jpeg:https://www.herringtonharbour.com/wp-content/uploads/2021/11/herrington-yoga-0806.jpg
ORGANIZER;CN="Herrington Harbour North":MAILTO:hhn@herringtonharbour.com
END:VEVENT
BEGIN:VEVENT
DTSTART;TZID=America/New_York:20250525T130000
DTEND;TZID=America/New_York:20250525T143000
DTSTAMP:20260420T211858
CREATED:20250522T012307Z
LAST-MODIFIED:20250522T012307Z
UID:60077-1748178000-1748183400@www.herringtonharbour.com
SUMMARY:Eco Adventures Animal Presentation
DESCRIPTION:Eco Adventures presents “Color Me Crazy” on Sunday\, May 25 from 1 to 2:30 pm on the Clubhouse Dock Lawn. Eco Adventures’ very own Colorologist will guide guests through the crazy world of animal pigmentation. During this dynamic show\, there will be lots of colorful animals and all the answers that go along with the questions of why\, when\, and how. Pets and food are not permitted at this event. If rain is in the forecast\, the event will be moved inside to The Landing. No registration required to attend.
URL:https://www.herringtonharbour.com/marina-event/eco-adventures-animal-presentation/
CATEGORIES:North Events
ATTACH;FMTTYPE=image/png:https://www.herringtonharbour.com/wp-content/uploads/2023/05/Eco-adv-King-Snake.png
END:VEVENT
BEGIN:VEVENT
DTSTART;TZID=America/New_York:20250525T130000
DTEND;TZID=America/New_York:20250525T160000
DTSTAMP:20260420T211858
CREATED:20250522T012620Z
LAST-MODIFIED:20250522T012620Z
UID:60080-1748178000-1748188800@www.herringtonharbour.com
SUMMARY:Guided Tours at the Herrington Harbour North Historic Village Museum
DESCRIPTION:Docents will be on-site to guide you through the artifacts and displays in the Deale Museum as well as touring you through the historic buildings in the village. Interactive tour are available every Sunday from 1-4 pm through the fall. The Historic Village is open daily for self-guided tours. \n 
URL:https://www.herringtonharbour.com/marina-event/guided-tours-at-the-herrington-harbour-north-historic-village-museum/
CATEGORIES:North Events
ATTACH;FMTTYPE=image/jpeg:https://www.herringtonharbour.com/wp-content/uploads/2025/05/unnamed-78.jpg
END:VEVENT
BEGIN:VEVENT
DTSTART;TZID=America/New_York:20250531T080000
DTEND;TZID=America/New_York:20250531T120000
DTSTAMP:20260420T211858
CREATED:20250522T012846Z
LAST-MODIFIED:20250522T012846Z
UID:60082-1748678400-1748692800@www.herringtonharbour.com
SUMMARY:Boater Yard Sale
DESCRIPTION:Our annual nautical themed yard sale will be on Saturday\, May 31 from 8 am to 12 pm. This boater yard sale is an opportunity to sell your own gear and find great deals on all things boating. If you have boating gear to sell\, bring your own table or blanket or sell your boating goods from the back of your car. There is no fee to sell\, but registration is required. To reserve a spot\, contact David at 410-867-4343 or david@herringtonharbour.com.
URL:https://www.herringtonharbour.com/marina-event/boater-yard-sale/
CATEGORIES:North Events
ATTACH;FMTTYPE=image/png:https://www.herringtonharbour.com/wp-content/uploads/2024/05/yard-sale.png
END:VEVENT
BEGIN:VEVENT
DTSTART;TZID=America/New_York:20250531T100000
DTEND;TZID=America/New_York:20250531T110000
DTSTAMP:20260420T211858
CREATED:20220504T151836Z
LAST-MODIFIED:20250522T011310Z
UID:56034-1748685600-1748689200@www.herringtonharbour.com
SUMMARY:Aqua Fitness
DESCRIPTION:Your Instructor will lead you through a series of exercises in the pool to improve flexibility\, muscular strength\, and endurance. Some of the benefits of Aqua Fitness include increased aerobic capacity\, improved balance and coordination\, and core stability. Bring your water bottle and towel for a FUN\, safe\, and effective one hour class at the pool.\n\nNo pre-registration is required to participate in our complimentary slipholder fitness programs. Please remember to arrive early to get signed in and complete the participation paperwork required by the instructors.
URL:https://www.herringtonharbour.com/marina-event/aqua-fitness-2/2025-05-31/
CATEGORIES:North Events
ATTACH;FMTTYPE=image/jpeg:https://www.herringtonharbour.com/wp-content/uploads/2022/05/aquatic-fitness-4974-scaled.jpg
END:VEVENT
END:VCALENDAR